Workbook
Name Abrantes: territorio!$D$2005:$D$2017
Name Águeda: territorio!$D$1:$D$11
Name Aguiar_da_Beira: territorio!$D$1207:$D$1216
Name Alandroal: territorio!$D$1071:$D$1074
Name Albergaria_a_Velha: territorio!$D$12:$D$17
Name Albufeira: territorio!$D$1140:$D$1143
Name Alcácer_do_Sal: territorio!$D$2146:$D$2149
Name Alcanena: territorio!$D$2018:$D$2024
Name Alcobaça: territorio!$D$1449:$D$1461
Name Alcochete: territorio!$D$2150:$D$2152
Name Alcoutim: territorio!$D$1144:$D$1147
Name Alenquer: territorio!$D$1559:$D$1569
Name Alfândega_da_Fé: territorio!$D$570:$D$581
Name Alijó: territorio!$D$2409:$D$2422
Name Aljezur: territorio!$D$1148:$D$1151
Name Aljustrel: territorio!$D$148:$D$151
Name Almada: territorio!$D$2153:$D$2157
Name Almeida: territorio!$D$1217:$D$1232
Name Almeirim: territorio!$D$2025:$D$2028
Name Almodôvar: territorio!$D$152:$D$157
Name Alpiarça: territorio!$D$2029
Name Alter_do_Chão: territorio!$D$1693:$D$1696
Name Alvaiázere: territorio!$D$1462:$D$1466
Name Alvito: territorio!$D$158:$D$159
Name Amadora: territorio!$D$1683:$D$1688
Name Amarante: territorio!$D$1762:$D$1787
Name Anadia: territorio!$D$18:$D$27
Name Ansião: territorio!$D$1467:$D$1472
Name Arcos_de_Valdevez: territorio!$D$2201:$D$2236
Name Arganil: territorio!$D$916:$D$929
Name Armamar: territorio!$D$2606:$D$2619
Name Arouca: territorio!$D$28:$D$43
Name Arraiolos: territorio!$D$1075:$D$1079
Name Arronches: territorio!$D$1697:$D$1699
Name Arruda_dos_Vinhos: territorio!$D$1570:$D$1573
Name Atalaia: territorio!$D$2129:$D$2132
Name Aveiro: territorio!$C$1:$C$147
Name Aveiro_Concelho: territorio!$D$44:$D$53
Name Avis: territorio!$D$1700:$D$1705
Name Azambuja: territorio!$D$1574:$D$1580
Name Baião: territorio!$D$1788:$D$1801
Name Barcelos: territorio!$D$239:$D$299
Name Barrancos: territorio!$D$160
Name Barreiro: territorio!$D$2158:$D$2161
Name Batalha: territorio!$D$1473:$D$1476
Name Beja: territorio!$C$148:$C$222
Name Beja_Concelho: territorio!$D$161:$D$172
Name Belmonte: territorio!$D$796:$D$799
Name Benavente: territorio!$D$2030:$D$2033
Name Bombarral: territorio!$D$1477:$D$1480
Name Borba: territorio!$D$1080:$D$1083
Name Boticas: territorio!$D$2423:$D$2432
Name Braga: territorio!$C$223:$C$569
Name Braga_Concelho: territorio!$D$300:$D$336
Name Bragança: territorio!$C$570:$C$795
Name Bragança_Concelho: territorio!$D$582:$D$620
Name Cabeceiras_de_Basto: territorio!$D$337:$D$363
Name Cadaval: territorio!$D$1581:$D$1587
Name Caldas_da_Rainha: territorio!$D$1481:$D$1492
Name Calheta: territorio!$D$2883:$D$2890

Sheet Comparticipação
AH3: mod. FRCP-3.02
AH4: Parecer n.º:
AH6: Tipo pedido: | AL6: COMPARTICIPAÇÃO
B7: IDENTIFICAÇÃO
B9: N.º Candidatura: | I9: =Parecer!I10 -> 0 | Q9: Processo SGD: | U9: =Parecer!U10 -> 0 | AF9: Distribuição:
B11: Designação candidatura: | I11: ='Formulário Candidatura'!I11 -> 0
B13: Tipologia operação: | Q13: ='Formulário Candidatura'!I14 -> RC - Reabilitação e Conservação
B15: Data receção: | Q15: Existiu junção elementos: | AF15: =IF(X15=suporte!B8,"Data última junção:","")
B17: Fase:
B19: CARACTERIZAÇÃO
B21: ORGANISMO
B22: Designação organismo: | I22: ='Formulário Candidatura'!I32 -> 0
B24: DESPESA ELEGÍVEL:
B26: Despesa elegível FRCP - RC: | AJ26: =Parecer!AJ74 -> 0
B28: Despesa elegível FRCP - PRA: | AJ28: =Parecer!AJ76 -> 0
B30: Despesa elegível FRCP - Total: | AJ30: =AJ26+AJ28 -> 0 | AV30: =AJ30-Parecer!AJ78 -> 0
B32: TAXA FINANCIAMENTO GLOBAL: | AQ32: =Parecer!AQ80 -> 0
B33: A taxa de financiamento global, no caso de candidatura a um único tipo de operação do FRCP, corresponde à taxa aferida, no caso de candidaturas a mais de um tipos de operações do FRCP, corresponde à percentagem média dos financiamentos apurados arredondado para cima.
B35: FINANCIAMENTO APURADO:
B37: Financiamento não reembolsável FRCP - RC: | AM37: =ROUND(AJ26*AQ32,2) -> 0 | AV37: =AM37-Parecer!AM85 -> 0 | AX37: Financiamento em parecer RC: | AY37: =M26*'Parecer RC'!AA85 -> 0
B39: Financiamento não reembolsável FRCP - PRA: | AM39: =ROUND(AJ28*AQ32,2) -> 0 | AV39: =AM39-Parecer!AM87 -> 0 | AX39: Financiamento em parecer PRA: | AY39: =M28*'Parecer PRA'!Z239 -> 0
B41: Financiamento reembolsável FRCP - PRA1: | AM41: 0 | AV41: =AM41-Parecer!AM89 -> 0
B43: Financiamento FRCP - Total: | AM43: =AM37+AM39+AM41 -> 0 | AV43: =AM43-Parecer!AM91 -> 0
Y45: Taxa de IVA aplicável: | AJ45: =Parecer!AJ95 -> 0
B47: MONTANTE TOTAL A FINANCIAR (aplicando enquadramento de beneficiário no C/IVA): | AM47: =AM43 -> 0 | AV47: =AM47-Parecer!AM97 -> 0
B49: INSTRUÇÃO
B51: 1.ª SOLICITAÇÃO:
B53: Contrato empreitada: | Q53: Orçamento adjudicado: | AF53: Auto consignação obra:
B55: Cronograma financeiro: | Q55: Autorização ACT (PRA):
B57: GERAL:
B59: Certidão inexistência dívida AT: | Y59: Certidão inexistência dívida Seg. Social:
B61: Auto(s) medição validado(s): | Y61: Fatura(s) validada(s):
B63: Princípio onerosidade:
B65: ÚLTIMA:
B67: Confirmação conclusão: | Y67: Atualização do SIIE:
B69: Declaração Entidade Beneficiária (PRA): | Y69: Certificado(s) receção resíduos (PRA):
AH73: mod. FRCP-3.01
AH74: Parecer n.º: | AL74: =AL4 -> 0
AH76: Candidatura: | AL76: =Parecer!I10 -> 0
B77: APRECIAÇÃO
...

Sheet Parecer
AH3: mod. FRCP-3.02
AH4: Parecer n.º:
AH6: Tipo pedido: | AL6: ='Formulário Candidatura'!AL4 -> 0
B7: Este Parecer Técnico de Candidatura tem como anexo(s) o(s) referido(s) em IDENTIFICAÇÃO - Anexo(s).
B8: IDENTIFICAÇÃO
B10: N.º Candidatura: | Q10: Processo SGD: | AF10: Distribuição:
B12: Designação candidatura: | I12: ='Formulário Candidatura'!I11 -> 0
B14: Tipologia operação: | Q14: ='Formulário Candidatura'!I14 -> RC - Reabilitação e Conservação | AF14: Anexo(s): | AL14: =IF(Q14=suporte!B1,suporte!F5,IF(Q14=suporte!B2,suporte!F6,IF(Q14=suporte!B3,suporte!F7,""))) -> Anexo RC
B16: Data receção: | Q16: Existiu junção elementos: | AF16: =IF(X16=suporte!B8,"Data última junção:","")
B18: CARACTERIZAÇÃO
B20: ORGANISMO
B21: Designação organismo: | I21: ='Formulário Candidatura'!I32 -> 0
B23: NIF: | F23: ='Formulário Candidatura'!I34 -> 0 | Q23: Tipo: | T23: ='Formulário Candidatura'!V34 -> 0
B25: Ministério: | F25: ='Formulário Candidatura'!I46 -> 0
B27: IMÓVEL
B28: Designação: | H28: ='Formulário Candidatura'!I49 -> 0
B30: N.º registo SIIE: | H30: 0 | I30: ='Formulário Candidatura'!I51 -> 0 | Q30: Distrito: | T30: ='Formulário Candidatura'!W51 -> 0 | AF30: Concelho: | AJ30: ='Formulário Candidatura'!AK51 -> 0
B32: Freguesia: | F32: ='Formulário Candidatura'!I53 -> 0
B34: Morada: | E34: ='Formulário Candidatura'!I55 -> 0 | AO34: N.º | AQ34: ='Formulário Candidatura'!AP55 -> 0
B36: Código postal: | I36: ='Formulário Candidatura'!I57 -> 0 | Q36: ='Formulário Candidatura'!Q57 -> 0
B38: INTERVENÇÃO
B39: OPERAÇÃO RC | Q39: OPERAÇÃO PRA | AF39: TOTAIS
B40: Despesa apresentada: | J40: =ROUND('Formulário Candidatura'!J20*(1+AM46),2) -> 0 | Q40: Despesa apresentada: | Y40: =ROUND('Formulário Candidatura'!Y20*(1+AM46),2) -> 0 | AF40: Despesa apresentada: | AN40: =J40+Y40 -> 0
B42: Comparticipação solicitada: | J42: =ROUND('Formulário Candidatura'!J22*(1+AM46),2) -> 0 | Q42: Comparticipação solicitada: | Y42: =ROUND('Formulário Candidatura'!Y22*(1+AM46),2) -> 0 | AF42: Comparticipação solicitada: | AN42: =J42+Y42 -> 0
B44: % comparticipação solicitada: | J44: ='Formulário Candidatura'!J24 -> 0 | Q44: % comparticipação solicitada: | Y44: ='Formulário Candidatura'!Y24 -> 0 | AF44: % comparticipação solicitada: | AN44: =IFERROR(AN42/AN40,0) -> 0
B46: Previsão início trabalhos: | I46: ='Formulário Candidatura'!J26 | Q46: Previsão prazo execução: | X46: ='Formulário Candidatura'!X26 | AF46: Taxa legal IVA aplicável: | AM46: ='Formulário Candidatura'!AM26 -> 0
B48: Ano ou anos civis em que decorrerá a execução: | Q48: ='Anexo RC'!Q29 -> 0
B50: Os montantes apresentados consideram IVA à taxa referida.
B52: Descrição sumária intervenção RC:
B53: ='Parecer RC'!B28 -> 0
B55: Descrição sumária intervenção PRA:
B56: ='Parecer PRA'!B36 -> 0
AH60: mod. FRCP-3.02
AH61: Parecer n.º: | AL61: =AL4 -> 0
AH63: Candidatura: | AL63: =I10 -> 0
B64: APRECIAÇÃO TÉCNICA
B66: Observações:
B69: FUNDAMENTAÇÃO TÉCNICA
B71: Fundamentação expressa no:
B72: DESPESA ELEGÍVEL:
...

Sheet Parecer RC
AH3: mod. FRCP-3.02
AH4: Parecer n.º: | AL4: =Parecer!AL4 -> 0
B5: Este anexo é parte integrante do Parecer Técnico da Candidatura com o n.º referência identificado em cima (Parecer n.º).
B6: IDENTIFICAÇÃO
B8: N.º Candidatura: | I8: =Parecer!I10 -> 0 | Q8: Distribuição: | AA8: =Parecer!AL10 -> 0
B10: Designação candidatura: | I10: ='Formulário Candidatura'!I11 -> 0
B12: Data receção: | I12: =Parecer!I16 -> 0 | Q12: Existiu junção elementos: | Y12: =Parecer!X16 -> 0 | AF12: =IF(Y12=suporte!B8,"Data junção:","") | AK12: =Parecer!AL16 -> 0
B14: INSTRUÇÃO
B16: Tipo de projeto: | I16: ='Anexo RC'!I8 -> 0 | X16: 0
B18: Memória descritiva: | I18: ='Anexo RC'!I10 -> 0 | Q18: Localização imóvel: | X18: ='Anexo RC'!X10 -> 0 | AF18: Levant. Fotográfico: | AM18: ='Anexo RC'!AM10 -> 0
B20: Orçamento: | I20: ='Anexo RC'!I12 -> 0 | Q20: Calendarização: | X20: ='Anexo RC'!X12 -> 0 | AF20: Atualização dados SIIE: | AM20: ='Anexo RC'!AM12 -> 0
B22: Enquadramento IVA: | I22: ='Anexo RC'!I14 -> 0 | Q22: Decl. Conformidade: | X22: ='Anexo RC'!X14 -> 0 | AF22: Orçamento detalhado: | AM22: ='Anexo RC'!AM14 -> 0
B24: CARACTERIZAÇÃO
B26: OPERAÇÃO RC
B27: Descrição sumária intervenção:
B28: ='Anexo RC'!B25 -> 0
B30: Data prevista início trabalhos: | J30: ='Anexo RC'!J27 -> 0 | Q30: Prazo previsto execução: | Y30: ='Anexo RC'!Y27 -> 0 | AC30: meses | AF30: Área abrangida intervenção: | AN30: ='Anexo RC'!AN27 -> 0 | AS30: m2
B32: Despesa apresentada: | J32: ='Anexo RC'!J31 -> 0 | Q32: Comparticipação solicitada: | Y32: ='Anexo RC'!Y31 -> 0 | AF32: % comparticipação | AN32: ='Anexo RC'!AN31 -> 0
B34: Observações:
B37: TIPOLOGIA: | P37: ='Anexo RC'!P40 -> 0
B38: ='Anexo RC'!B44 -> 0
AS39: Justificação
B41: SOLIDEZ: | P41: ='Anexo RC'!P50 -> 0
B42: ='Anexo RC'!B54 -> 0
AS43: Justificação
B45: Os valores da despesa e da comparticipação apresentados são sem IVA
AH48: mod. FRCP-3.02
AH49: Parecer n.º: | AL49: =AL4 -> 0
AH51: Candidatura: | AL51: =I8 -> 0
B52: CARACTERIZAÇÃO (continuação)
B54: SEGURANÇA: | P54: ='Anexo RC'!O57 -> 0
B55: ='Anexo RC'!B61 -> 0
AS56: Justificação
B58: SALUBRIDADE: | P58: ='Anexo RC'!O64 -> 0
B59: ='Anexo RC'!B68 -> 0
AS60: Justificação
B62: APRECIAÇÃO
B64: TIPOLOGIA:
B65: Tipologia das operações de intervenção constantes do projeto apresentado:
W66: Ponderação atribuída:
...

Sheet Parecer PRA
AH3: mod. FRCP-3.02
AH4: Parecer n.º: | AL4: =Parecer!AL4 -> 0
B5: Este anexo é parte integrante do Parecer Técnico da Candidatura com o n.º referência identificado em cima (Parecer n.º:).
B6: IDENTIFICAÇÃO
B8: N.º Candidatura: | I8: =Parecer!I10 -> 0 | Q8: Distribuição: | AA8: =Parecer!AL10 -> 0
B10: Designação candidatura: | I10: ='Formulário Candidatura'!I11 -> 0
B12: Data receção: | I12: =Parecer!I16 -> 0 | Q12: Existiu junção elementos: | Y12: =Parecer!X16 -> 0 | AF12: =IF(Y12=suporte!B8,"Data junção:","") | AK12: =Parecer!AL16 -> 0
B14: INSTRUÇÃO
B16: Relatório Diagnóstico: | I16: ='Anexo PRA'!I6 -> 0 | Q16: Realizado por: | X16: ='Anexo PRA'!X6 -> 0
B18: Termo responsabilidade: | I18: ='Anexo PRA'!I8 -> 0 | Q18: Certificado Laboratório: | X18: ='Anexo PRA'!X8 -> 0 | AF18: Fotografias dos materiais: | AM18: ='Anexo PRA'!AM8 -> 0
B20: Localização amianto: | I20: ='Anexo PRA'!I10 -> 0 | Q20: Identificação materiais: | X20: ='Anexo PRA'!X10 -> 0 | AF20: Caract. materiais amianto: | AM20: ='Anexo PRA'!AM10 -> 0
B22: Tipo de projeto: | I22: ='Anexo PRA'!I15 -> 0 | X22: 0
B24: Memória descritiva: | I24: ='Anexo PRA'!I17 -> 0 | Q24: Peças desenhadas: | X24: ='Anexo PRA'!X17 -> 0 | AF24: Localização do imóvel: | AM24: ='Anexo PRA'!AM17 -> 0
B26: Levant. fotográfico: | I26: ='Anexo PRA'!I19 -> 0 | Q26: Orçamento: | X26: ='Anexo PRA'!X19 -> 0 | AF26: Calendarização: | AM26: ='Anexo PRA'!AM19 -> 0
B28: Atualização dados SIIE: | I28: ='Anexo PRA'!I21 -> 0 | Q28: Enquadramento C/IVA: | X28: ='Anexo PRA'!X21 -> 0 | AF28: Decl. conformidade: | AM28: ='Anexo PRA'!AM21 -> 0
B30: Termo responsabilidade: | I30: ='Anexo PRA'!I23 -> 0 | Q30: Orçamento detalhado: | X30: ='Anexo PRA'!X23 -> 0
B32: CARACTERIZAÇÃO
B34: OPERAÇÃO PRA
B35: Descrição sumária intervenção:
B36: ='Anexo PRA'!B34 -> 0
B38: Data prevista início trabalhos: | J38: ='Anexo PRA'!J36 -> 0 | Q38: Prazo previsto execução: | Y38: ='Anexo PRA'!Y36 -> 0 | AC38: meses | AF38: Área abrangida intervenção: | AN38: ='Anexo PRA'!AN36 -> 0 | AS38: m2
B40: DESPESA APRESENTADA:
B42: Custos c/ relatório diagnóstico: | Q42: ='Anexo PRA'!Q42 -> 0 | X42: Montante comparticipação solicitada c/relatório diagnóstico: | AN42: ='Anexo PRA'!AN42 -> 0
X44: % comparticipação solicitada c/ relatório diagnóstico: | AN44: ='Anexo PRA'!AN44 -> 0
B46: Custos c/ projetos: | Q46: ='Anexo PRA'!Q46 -> 0 | X46: Montante comparticipação solicitada c/ projetos: | AN46: ='Anexo PRA'!AN46 -> 0
X48: % comparticipação solicitada c/ projetos: | AN48: ='Anexo PRA'!AN48 -> 0
B50: Custos c/ trabalhos remoção: | Q50: ='Anexo PRA'!Q50 -> 0 | X50: Montante comparticipação solicitada c/ trab. remoção: | AN50: ='Anexo PRA'!AN50 -> 0
X52: % comparticipação solicitada c/ trab. remoção: | AN52: ='Anexo PRA'!AN52 -> 0
B54: Custos c/ trabalhos substituição: | Q54: ='Anexo PRA'!Q54 -> 0 | X54: Montante comparticipação solicitada c/ trab. substituição: | AN54: ='Anexo PRA'!AN54 -> 0
X56: % comparticipação solicitada c/ trab. substituição: | AN56: ='Anexo PRA'!AN56 -> 0
B58: Custos c/ trabalhos complementares: | Q58: ='Anexo PRA'!Q58 -> 0 | X58: Montante comparticipação solicitada c/ trab. complementar: | AN58: ='Anexo PRA'!AN58 -> 0
X60: % comparticipação solicitada c/ trab. complementares: | AN60: ='Anexo PRA'!AN60 -> 0
B62: Despesa total apresentada: | Q62: =Q42+Q46+Q50+Q54+Q58 -> 0 | X62: Comparticipação total solicitada: | AN62: =AN42+AN46+AN50+AN54+AN58 -> 0 | AV62: =Q62-'Anexo PRA'!Q62 -> 0 | AW62: =AN62-'Anexo PRA'!AN62 -> 0
X64: % comparticipação média solicitada: | AN64: =IFERROR(AN62/Q62,0) -> 0 | AW64: =AN64-'Anexo PRA'!AN64 -> 0
B67: Os valores da despesa e da comparticipação apresentados são sem IVA
AH70: mod. FRCP-3.02
AH71: Parecer n.º: | AL71: =AL4 -> 0
AH73: Candidatura: | AL73: =I8 -> 0
B74: CARACTERIZAÇÃO (continuação)
B76: INTERVENÇÃO 1. | AW76: % Quantidade total: | AX76: % Prioridade 1 | AY76: % Prioridade 2 | AZ76: % Prioridade 3
...

Sheet Formulário Candidatura
AH3: mod. FRCP-3.02
AH4: Tipo pedido:
B5: Descrição geral da candidatura apresentada ao Fundo de Reabilitação e Conservação Patrimonial. A candidatura poderá respeitar a tipologia de operação de Reabilitação e Conservação (RC) ou outras operações específicas. O presente formulário, bem como os seus anexos, devem ser integralmente preenchido (campos sombreados a cinza), não dispensando a junção de todos os documentos de instrução necessários à candidatura.
B6: Após preenchida a totalidade da informação, deverá ser gravada uma versão Excel e outra em PDF. A serem remetidos com a candidatura e os restantes documentos de instrução em formato editável (xls ou xlsx) e em PDF.
B8: IDENTIFICAÇÃO
B11: Designação candidatura:
B12: Tipo de operação (reabilitação, conservação, …) | zona(s) de intervenção (cobertura, fachadas, …) | edifício(s) | localização | concelhos - máximo 90 caracteres
B14: Tipologia operação: | I14: RC - Reabilitação e Conservação | Y14: =IF(I14=suporte!B1,suporte!C1,IF(I14=suporte!B2,suporte!C2,IF(I14=suporte!B3,suporte!C3,""))) -> Preencher anexo RC
B16: SUMÁRIO DA CANDIDATURA APRESENTADA (AUTOPREENCHIMENTO)
B17: Resume dos valores preenchidos nos anexos RC, PRA ou em ambos.
B19: OPERAÇÃO RC | AF19: TOTAIS
B20: Despesa apresentada: | J20: =ROUND('Anexo RC'!J31*(1+AM26),2) -> 0 | AF20: Despesa apresentada: | AN20: =J20 -> 0
B22: Comparticipação solicitada: | J22: =ROUND('Anexo RC'!Y31*(1+AM26),2) -> 0 | AF22: Comparticipação solicitada: | AN22: =J22 -> 0
B24: % comparticipação solicitada: | J24: ='Anexo RC'!AN31 -> 0 | AF24: % comparticipação solicitada: | AN24: =IFERROR(AN22/AN20,0) -> 0
B26: Previsão para início trabalhos: | J26: =IF(AND(AV26=1,AV27=1),AW29,IF(AV26=1,AW26,IF(AV27=1,AW27,""))) | Q26: Prazo de execução: | X26: =IF(AND(AX26=1,AX27=1),AY29,IF(AX26=1,AY26,IF(AX27=1,AY27,""))) | AF26: Taxa IVA aplicável:
B27: Os montantes apresentados são sem IVA.
B29: CARACTERIZAÇÃO
B31: ORGANISMO
B32: Designação organismo:
B34: NIF: | Q34: Tipo organismo:
B36: Morada:
B38: Código postal:
B40: Endereço eletrónico geral:
B42: Nome gestor de contacto:
B44: Telefone: | X44: Endereço eletrónico:
B46: Ministério afeto:
B48: IMÓVEL
B49: Designação imóvel:
B51: N.º inventário SIIE: | Q51: Distrito: | AF51: Concelho:
B53: Freguesia:
B55: Morada: | AO55: N.º
B57: Código postal:
B59: INSCRIÇÃO MATRICIAL
B61: Freguesia: | Y61: Tipo:
B63: Artigo: | Y63: Secção/fração:
B65: REGISTO PREDIAL
B67: Conservatória: | Y67: Freguesia:
B69: N.º inscrição:

Sheet Anexo RC
AH3: mod. FRCP-3.02
B4: Descrição geral da candidatura apresentada ao Fundo de Reabilitação e Conservação Patrimonial relativa a tipologia de operações de Reabilitação e Conservação (RC). Preencher só com a informação referente a operações RC. O presente anexo deve ser integralmente preenchido (campos sombreados a cinza), não dispensando a junção de todos os documentos de instrução necessários à candidatura.
B6: INSTRUÇÃO
B8: Tipo de projeto: | Q8: =IF(I8=suporte!A22,suporte!B22,"")
B10: Memória descritiva1: | Q10: Localização imóvel: | AF10: Levant. Fotográfico2:
B12: Orçamento: | Q12: Calendarização: | AF12: Atualização dados SIIE:
B14: Enquadramento IVA: | Q14: Decl. Conformidade3: | AF14: Orçamento detalhado4:
B16: 1 A Memória descritiva e justificativa, conforme estabelecido no Guia para Instrução e Gestão das Candidaturas, composta pelos seguintes elementos: i) identificação e descrição do imóvel; ii) área objeto das operações; iii) âmbito e conteúdo das operações e iv) justificação da necessidade de intervenção.
B17: 2 Fotografias gerais do edifício (exteriores e interiores) e das zonas a intervencionar.
B18: 3 Minuta - Anexo_B_DeclaracaoConformidadeBeneficiario (mod. 2026), no sítio da internet da ESTAMO: www.estamo.pt
B19: 4 O Projeto de execução, quando apresentado, deve conter mapa de medições e orçamento detalhado.
B21: INTERVENÇÃO
B23: OPERAÇÃO RC
B24: Descrição sumária intervenção (máximo 500 caracteres)
B27: Data prevista inicio execução: | Q27: Prazo previsto execução: | AC27: meses | AF27: Área abrangida intervenção5: | AS27: m2
B29: Ano ou anos civis em que decorrerá a execução:
B31: Despesa apresentada RC6: | Q31: Comparticipação solicitada6: | Y31: =ROUND(J31*AN31,2) -> 0 | AF31: % comparticipação:
B33: 6 Os montantes da despesa e da comparticipação solicitada são sem IVA
B34: 5 Indicar a área bruta de construção da zona do edifício a reabilitar ou conservar, se for o edifício todo apresentar a área total. No caso de existirem zonas novas, indicar também essas áreas.
B36: PARÂMETROS DE APRECIAÇÃO
B38: O Regulamento do FRCP, publicado pela Portaria n.º 293/2009, de 24 de março, define os critérios de apreciação das candidaturas, por isso importa enquadrar as características e os âmbitos que as intervenções propostas visam atingir. Descrevendo sumariamente as patologias existentes e apresentado de forma sucinta as soluções propostas, bem como, as melhorias a introduzir.
B40: TIPOLOGIA:
B42: Definir se a candidatura apresentada tem como objetivo obras com carácter de urgentes ou prioritárias, fase ao grau de degradação elevado do imóvel, ou se refere as intervenções a realizar no âmbito da conservação e a reabilitação normal do edificado, também se poderá aplicar ambas a situações. A majoração a aplicar é de 5,0% para intervenções de conservação e reabilitação, de 7,5% para obras urgentes ou prioritárias e de 7,5% se as intervenções abrangerem ambos os critérios.
B43: Justificação (máximo 400 caracteres):
B45: Justificação sumária de qualificar a candidatura apresentada como obras urgentes ou prioritárias, intervenções de conservação e reabilitação, ou ambas:
B48: PARÂMETROS DE APRECIAÇÃO (continuação)
B50: SOLIDEZ
B52: Definir se a intervenção proposta visa colmatar patologias que possam colocar em causa a segurança física dos elementos construtivos estruturais e arquitetónicos do imóvel. A majoração a aplicar é de 5,0% em intervenções com pouca relevância, de 10,0% em intervenções relevantes e de 15,0% em intervenções muito relevantes.
B53: Justificação (máximo 400 caracteres):
... B69: Se existirem patologias de salubridade, identificar sumariamente as patologias associadas e qual a intervenção(ões) proposta realizar para solucionar o problema, considerando que essa fundamentação irá contribuir para a majoração a aplicar no calculo do financiamento a apurar.

Sheet Anexo PRA
AH2: mod. FRCP-3.02
B3: Descrição geral da candidatura apresentada ao Fundo de Reabilitação e Conservação Patrimonial relativa a tipologia de operações de Programa de Remoção de Amianto (PRA). Preencher só com a informação referente a operações PRA, no caso da candidatura prever também intervenção no âmbito de Reabilitação Conservação (RC) essa informação deve ser preenchida no Anexo RC. O presente anexo deve ser integralmente preenchido (campos sombreados a cinza), não dispensando a junção de todos os documentos de instrução necessários à candidatura.
B4: INSTRUÇÃO
B6: Relatório Diagnóstico1: | Q6: Realizado por:
B8: Termo responsabilidade: | Q8: Certificado Laboratório: | AF8: Fotografias dos materiais2:
B10: Localização amianto: | Q10: Identificação materiais: | AF10: Caract. materiais amianto:
B12: 1 No caso de não ser apresentado Relatório Diagnóstico, evocando a Metodologia para Tomada de Decisão do Instituto Nacional de Saúde Doutor Ricardo Jorge, para o fibrocimento, será aplicada a classificação referida nesse documento, como fibrocimento ser um material não fiável.
B13: 2 Fotografias dos materiais que contêm amianto, possibilitando verificar o estado de conservação, desses materiais, e a sua localização.
B15: Tipo de projeto: | Q15: =IF(I15=suporte!A22,suporte!B22,"")
B17: Memória descritiva3: | Q17: Peças desenhadas: | AF17: Localização do imóvel:
B19: Levant. fotográfico4: | Q19: Orçamento: | AF19: Calendarização:
B21: Atualização dados SIIE: | Q21: Enquadramento C/IVA: | AF21: Decl. Conformidade5:
B23: Termo responsabilidade: | Q23: Orçamento detalhado6
B25: 3 A Memória descritiva e justificativa, conforme estabelecido no Guia para Instrução e Gestão das Candidaturas, é composta pelos seguintes elementos: i) identificação e descrição do imóvel; ii) área objeto das operações; iii) âmbito e conteúdo das operações e iv) justificação da necessidade de intervenção.
B26: 4 Fotografias gerais do edifício (exteriores e interiores) e das zonas a intervencionar.
B27: 5 Minuta - Anexo_B_DeclaracaoConformidadeBeneficiario (mod. 2024), no sítio da internet da ESTAMO: www.estamo.pt
B28: 6 O Projeto de execução, quando apresentado, deve conter mapa de medições e orçamento detalhado.
B30: INTERVENÇÃO
B32: OPERAÇÃO PRA
B33: Descrição sumária intervenção (máximo 500 caracteres)
B36: Data prevista início trabalhos: | Q36: Prazo previsto execução: | AC36: meses | AF36: Área abrangida intervenção: | AN36: =X80+X91+X102+X113+X124+X140+X151+X162+X173+X184+X195 -> 0 | AS36: m2
B38: Comparticipação reembolsável solicitada PRA:
B39: A comparticipação reembolsável obriga a apresentação de Plano de Reembolso.
B40: COMPARTICIPAÇÃO NÃO REEMBOLSÁVEL SOLICITADA DESAGREGADA:
B42: Custos c/ relatório diagnóstico: | X42: Montante comparticipação solicitada c/relatório diagnóstico3: | AN42: =Q42*AN44 -> 0
B43: O relatório diagnóstico poderá ser sempre objeto de financiamento não reembolsável, mesmo que se comprove a não existência de materiais com amianto.
X44: % comparticipação solicitada c/ relatório diagnóstico:
B46: Custos c/ projetos: | X46: Montante comparticipação solicitada c/ projetos: | AN46: =Q46*AN48 -> 0
X48: % comparticipação solicitada c/ projetos:
B50: Custos c/ trabalhos remoção: | Q50: =I83+I94+I105+I116+I127+I143+I154+I165+I176+I187+I198+I212 -> 0 | X50: Montante comparticipação solicitada c/ trab. remoção: | AN50: =Q50*AN52 -> 0
X52: % comparticipação solicitada c/ trab. remoção:
B54: Custos c/ trabalhos substituição: | Q54: =X83+X94+X105+X116+X127+X143+X154+X165+X176+X187+X198+X212 -> 0 | X54: Montante comparticipação solicitada c/ trab. substituição: | AN54: =Q54*AN56 -> 0
X56: % comparticipação solicitada c/ trab. substituição:
B58: Custos c/ trabalhos complementares: | Q58: =AM83+AM94+AM105+AM116+AM127+AM143+AM154+AM165+AM176+AM187+AM198+AM212 -> 0 | X58: Montante comparticipação solicitada c/ trab. complementar3: | AN58: =Q58*AN60 -> 0
X60: % comparticipação solicitada c/ trab. complementares:
B62: Despesa total apresentada: | Q62: =Q42+Q46+Q50+Q54+Q58 -> 0 | X62: Comparticipação total solicitada: | AN62: =AN42+AN46+AN50+AN54+AN58 -> 0
X64: % comparticipação média solicitada: | AN64: =IFERROR(AN62/Q62,0) -> 0
B66: Os montantes da despesa e da comparticipação solicitada são sem IVA
B70: PARÂMETROS DE APRECIAÇÃO
B72: Descrição das intervenções a realizar no âmbito dos trabalhos de remoção do amianto, referindo a localização do material no edifício e caraterizando o tipo de material que contem amianto [MCA] quanto à friabilidade, estado de conservação, revestimento, acessibilidade, quantidade, assim como descriminar os custos referentes ao estudo/projeto execução, remoção, substituição e trabalhos complementares. A candidatura ao financiamento no âmbito PRA terá que prever ações relativas aos materiais contendo amianto existentes no edifício, podendo apresentar mais que uma intervenção. O número destas intervenções está dependente da existência de materiais com diferentes localizações, níveis de proteção, naturezas e/ou atributos de conservação. Para cada intervenção, com características diferentes terá que ser preenchido uma Identificação de Intervenção.
...

Sheet suporte
A1: Aveiro | B1: RC - Reabilitação e Conservação | C1: Preencher anexo RC | D1: Ministério dos Negócios Estrangeiros | E1: Bom | F1: 0.5
A2: Beja | B2: PRA - Programa Remoção Amianto | C2: Preencher anexo PRA | D2: Ministério das Finanças | E2: Razoável | F2: 0.75
A3: Braga | B3: RC e PRA | C3: Preencher anexos RC e PRA | D3: Ministério da Economia e da Coesão Territorial | E3: Mau | F3: 0.8
A4: Bragança | D4: Ministério da Reforma do Estado
A5: Castelo Branco | B5: APRECIAÇÃO | D5: Ministério da Defesa Nacional | E5: Revestido | F5: Anexo RC
A6: Coimbra | B6: REAPRECIAÇÃO | C6: Sujeito a dedução | D6: Ministério das Infraestruturas e Habitação | E6: Não revestido | F6: Anexo PRA
A7: Évora | C7: Não sujeito a dedução | D7: Ministério da Justiça | F7: Anexos RC + PRA
A8: Faro | B8: Sim | D8: Ministério da Administração Interna | E8: Acessível | F8: 1.ª Solicitação
A9: Guarda | B9: Não | C9: Estudo prévio | D9: Ministério da Educação, Ciência e Inovação | E9: Inacessível | F9: 2.ª Solicitação
A10: Leiria | C10: Projeto execução | D10: Ministério da Saúde | F10: 3.ª Solicitação
A11: Lisboa | B11: Anexo RC | D11: Ministério do Trabalho, Solidariedade e Segurança Social | E11: Friável | F11: 4.ª Solicitação
A12: Portalegre | B12: Anexo PRA | C12: Estado | D12: Ministério do Ambiente e Energia | E12: Não friável | F12: 5.ª Solicitação
A13: Porto | B13: Anexos RC e PRA | C13: Instituto Público | D13: Ministério da Cultura, Juventude e Desporto | F13: 6.ª Solicitação
A14: Santarém | C14: Empresa do Sector Empresarial do Estado | D14: Ministério da Agricultura e Mar | F14: 7.ª Solicitação
A15: Setúbal | D15: Presidência do Conselho de Ministros | F15: 8.ª Solicitação
A16: Viana do Castelo | B16: Apresentado | C16: Urbano | E16: Pago | F16: 9.ª Solicitação
A17: Vila Real | B17: Não apresentado | C17: Rústico | E17: Não pago | F17: 10.ª Solicitação
A18: Viseu | B18: Não aplicável | C18: Misto | E18: Não aplicável | F18: 11.ª Solicitação
B19: - | F19: 12. ª Solicitação
A20: Estudo prévio | C20: Atualizados | F20: Total
A21: Projeto execução | C21: Não atualizados | D21: Parecer Cultura: | F21: Última
A22: Outro | B22: Qual: | F22: -
F23: Anterior
A24: 0 | B24: Obras urgentes ou prioritárias | C24: As intervenções visão colmatar patologias que afetam a solidez do imóvel | D24: As intervenções visão colmatar patologias de segurança do imóvel | E24: As intervenções visão colmatar patologias de salubridade do imóvel
A25: 0.06 | B25: Intervenções de conservação e reabilitação | C25: O imóvel não tem patologias que afetem a sua solidez | D25: O imóvel não tem patologias que afetam a sua segurança | E25: O imóvel não tem patologias que afetam a sua salubridade
A26: 0.23 | B26: Obras urgentes ou prioritárias, com intervenções de conservação e reabilitação | C26: O imóvel tem patologias de solidez que as intervenções propostas não visam resolver | D26: O imóvel tem patologias de segurança que as intervenções propostas não visam resolver | E26: O imóvel tem patologias de salubridade que as intervenções propostas não visam resolver
A28: 0.2 | B28: Urgente ou prioritária | C28: Obras urgentes ou prioritárias face à gravidade extrema das deficiências de solidez, segurança e salubridade do imóvel ou à sua especial localização.
A29: 0.14 | B29: Conservação e reabilitação | C29: Intervenções de conservação e reabilitação, nomeadamente ao nível da cobertura, dos vãos, das canalizações, das instalações elétricas ou eletromecânicas, bem como as destinadas a promover a eficiência energética dos imóveis.
A30: 0.2 | B30: Urgente ou prioritária, conservação e reabilitação | C30: Obras urgentes ou prioritárias face à gravidade extrema das deficiências de solidez, segurança e salubridade do imóvel ou à sua especial localização. Bem como, intervenções de conservação e reabilitação, nomeadamente ao nível da cobertura, dos vãos, das canalizações, das instalações elétricas ou eletromecânicas, bem como as destinadas a promover a eficiência energética dos imóveis.
A32: 0.04 | B32: Pouco relevante | C32: Intervenção que pese constituir-se lógica, designadamente vindo na sequência de outras anteriores, não se revela imprescindível concretizar no presente, por não beneficiar de forma sensível ou durável, a estrutura ou robustez do conjunto edificado ou de qualquer elemento construtivo tido por fundamental que o integre.
A33: 0.08 | B33: Relevante | C33: Intervenção que se impõe, face à ausência parcial ou total de solidez ou de segurança de um dado componente construtivo estrutural ou arquitetónico do edificado, do seu todo ou de parte que limita a sua utilização, podendo pôr em risco bens.
A34: 0.12 | B34: Muito relevante | C34: Intervenção que se impõe, face a uma situação de ruína próxima ou eminente, pondo em risco, direta ou indiretamente, funcionalidades instaladas, pessoas ou outras áreas do edificado em plena utilização.
C36: Intervenção associada a anomalia extraordinária nos sistemas instalados, associados ou não ao seu grau de vetustez ou que correspondendo a propostas iniciais ou de melhoria das condições de segurança, em qualquer das vertentes consideradas, não comportam benefícios duradouros tecnicamente ou mistos, compatíveis com as características e nível de utilização do edificado.
C37: Intervenções necessárias concretizar para a resolução de situações excecionais que não decorram da ausência de manutenção dos equipamentos ou edificados e que comportem situações de risco sobre bens e de funcionamento dos serviços instalados sem que no curto prazo, haja possibilidade da sua concretização.
C38: Intervenções que se impõem, perante riscos de segurança eminentes, face a situações observadas que manifestamente, afetando pessoas e bens, justificam a deslocação temporária dos serviços instalados.
C40: Intervenções que embora não dirigidas para a resolução de problemas de insalubridade, comportam soluções que beneficiam, no futuro, o comportamento do edificado, face a tais problemas.
C41: Intervenções que procuram eliminar fatores de insalubridade que afetam diretamente a funcionalidade dos serviços e as condições de desempenho do edificado.
C42: Intervenções que se impõem, face à perda de funcionalidade do edificado ou de suas partes relevantes, por razões de insalubridade manifesta, prevalecentes ou concorrenciais com outras causas.
C44: Edificado cuja presença na malha urbana da cidade ou local, não lhe configuram visibilidade ou importância relativa especial, face aos demais da envolvente.
C45: Edificado cujas características e presença na malha urbana, o tornam fundamental manter, quando comparado com os demais da envolvente.
...

Sheet territorio
A1: 1 | B1: Aveiro | C1: Águeda | D1: Aguada de Cima
A2: 2 | B2: Aveiro | C2: Águeda | D2: Fermentelos
A3: 3 | B3: Aveiro | C3: Águeda | D3: Macinhata do Vouga
A4: 4 | B4: Aveiro | C4: Águeda | D4: Valongo do Vouga
A5: 5 | B5: Aveiro | C5: Águeda | D5: União das freguesias de Águeda e Borralha
A6: 6 | B6: Aveiro | C6: Águeda | D6: União das freguesias de Barrô e Aguada de Baixo
A7: 7 | B7: Aveiro | C7: Águeda | D7: União das freguesias de Belazaima do Chão, Castanheira do Vouga e Agadão
A8: 8 | B8: Aveiro | C8: Águeda | D8: União das freguesias de Recardães e Espinhel
A9: 9 | B9: Aveiro | C9: Águeda | D9: União das freguesias de Travassô e Óis da Ribeira
A10: 10 | B10: Aveiro | C10: Águeda | D10: União das freguesias de Trofa, Segadães e Lamas do Vouga
A11: 11 | B11: Aveiro | C11: Águeda | D11: União das freguesias do Préstimo e Macieira de Alcoba
A12: 12 | B12: Aveiro | C12: Albergaria_a_Velha | D12: Alquerubim
... A3092: 3092 | B3092: Ilha do Corvo | C3092: Corvo | D3092: Corvo
